BEGIN:VCALENDAR
VERSION:2.0
PRODID:City of Santa Clara Calendar Creator
METHOD:PUBLISH
BEGIN:VEVENT
DTSTAMP:20260105T143945
DTSTART:20260506T114500
DTEND:20260506T131500
SUMMARY:City-School Liaison Committee Meeting
DESCRIPTION:
X-ALT-DESC;FMTTYPE=text/html:
LOCATION:City Hall Council Chambers\, 1500 Warburton Avenue Santa Clara\, California 95050
CLASS:PUBLIC
END:VEVENT
END:VCALENDAR
