BEGIN:VCALENDAR
VERSION:2.0
PRODID:City of Santa Clara Calendar Creator
METHOD:PUBLISH
BEGIN:VEVENT
DTSTAMP:20260330T170147
DTSTART:20260508T120000
DTEND:20260508T150000
SUMMARY:"Be Strong, Live Long" Health & Wellness Fair
DESCRIPTION:<h3>May 8, 15, &amp; 22 | 12 – 3 p.m. | Santa Clara Senior Center, 1303 Fremont St.</h3><p><strong>Help us celebrate Older Adults Month with the 10th Annual “Be Strong, Live Long” Health &amp; Wellness Fair at the Santa Clara Senior Center.</strong></p><p>This series of mini fairs held throughout May is designed for adults aged 50+. Our goal is to empower older adults to be strong and live long through education, connection, and a little fun along the way. Each event:</p><ul>    <li>Introduces the different organizations focused on health and community support</li>    <li>Connects you to people who help with transportation, safety, accessing food, fitness and more</li>    <li>Includes free health screenings, low-cost boxed lunches and prizes</li>    <li>Fosters meaningful connections that support independent living for you, your family and friends</li></ul><p>Learn more on the&nbsp;<a href="https://siliconvalleypower.prod-as.govaccess.org/our-city/departments-g-z/parks-recreation/parks-recreation-special-events/be-strong-live-long-health-wellness-fair" target="_blank" rel="noopener">Health and Wellness Fair webpage</a>.</p>
X-ALT-DESC;FMTTYPE=text/html:<h3>May 8, 15, &amp; 22 | 12 – 3 p.m. | Santa Clara Senior Center, 1303 Fremont St.</h3><p><strong>Help us celebrate Older Adults Month with the 10th Annual “Be Strong, Live Long” Health &amp; Wellness Fair at the Santa Clara Senior Center.</strong></p><p>This series of mini fairs held throughout May is designed for adults aged 50+. Our goal is to empower older adults to be strong and live long through education, connection, and a little fun along the way. Each event:</p><ul>    <li>Introduces the different organizations focused on health and community support</li>    <li>Connects you to people who help with transportation, safety, accessing food, fitness and more</li>    <li>Includes free health screenings, low-cost boxed lunches and prizes</li>    <li>Fosters meaningful connections that support independent living for you, your family and friends</li></ul><p>Learn more on the&nbsp;<a href="https://siliconvalleypower.prod-as.govaccess.org/our-city/departments-g-z/parks-recreation/parks-recreation-special-events/be-strong-live-long-health-wellness-fair" target="_blank" rel="noopener">Health and Wellness Fair webpage</a>.</p>
LOCATION:Santa Clara Senior Center\, 1303 Fremont Street Santa Clara\, California 95050
CLASS:PUBLIC
END:VEVENT
END:VCALENDAR
